BEGIN:VCALENDAR
VERSION:2.0
PRODID:-//Texarkana Today - ECPv6.15.20//NONSGML v1.0//EN
CALSCALE:GREGORIAN
METHOD:PUBLISH
X-ORIGINAL-URL:https://txktoday.com
X-WR-CALDESC:Events for Texarkana Today
REFRESH-INTERVAL;VALUE=DURATION:PT1H
X-Robots-Tag:noindex
X-PUBLISHED-TTL:PT1H
BEGIN:VTIMEZONE
TZID:America/Chicago
BEGIN:DAYLIGHT
TZOFFSETFROM:-0600
TZOFFSETTO:-0500
TZNAME:CDT
DTSTART:20240310T080000
END:DAYLIGHT
BEGIN:STANDARD
TZOFFSETFROM:-0500
TZOFFSETTO:-0600
TZNAME:CST
DTSTART:20241103T070000
END:STANDARD
BEGIN:DAYLIGHT
TZOFFSETFROM:-0600
TZOFFSETTO:-0500
TZNAME:CDT
DTSTART:20250309T080000
END:DAYLIGHT
BEGIN:STANDARD
TZOFFSETFROM:-0500
TZOFFSETTO:-0600
TZNAME:CST
DTSTART:20251102T070000
END:STANDARD
BEGIN:DAYLIGHT
TZOFFSETFROM:-0600
TZOFFSETTO:-0500
TZNAME:CDT
DTSTART:20260308T080000
END:DAYLIGHT
BEGIN:STANDARD
TZOFFSETFROM:-0500
TZOFFSETTO:-0600
TZNAME:CST
DTSTART:20261101T070000
END:STANDARD
END:VTIMEZONE
BEGIN:VEVENT
DTSTART;TZID=America/Chicago:20251216T160000
DTEND;TZID=America/Chicago:20251216T180000
DTSTAMP:20260421T162438
CREATED:20251208T164316Z
LAST-MODIFIED:20251208T164316Z
UID:10001072-1765900800-1765908000@txktoday.com
SUMMARY:Fat Jacks Business Happy Hour
DESCRIPTION:Bring a wrapped holiday gift for drawings and your business cards. A relaxed networking event with a festive twist at one of downtown’s longtime favorites.
URL:https://txktoday.com/eventscal/fat-jacks-business-happy-hour/
LOCATION:Fat jacks\, 3324 N State Line Ave\, Texarkana\, AR\, 71854\, United States
CATEGORIES:Business Event
ATTACH;FMTTYPE=image/jpeg:https://txktoday.com/wp-content/uploads/2025/12/fatjacks-business-after-hours-1024x512-1.jpg
END:VEVENT
END:VCALENDAR