BEGIN:VCALENDAR
VERSION:2.0
PRODID:-//Texarkana Today - ECPv6.15.20//NONSGML v1.0//EN
CALSCALE:GREGORIAN
METHOD:PUBLISH
X-WR-CALNAME:Texarkana Today
X-ORIGINAL-URL:https://txktoday.com
X-WR-CALDESC:Events for Texarkana Today
REFRESH-INTERVAL;VALUE=DURATION:PT1H
X-Robots-Tag:noindex
X-PUBLISHED-TTL:PT1H
BEGIN:VTIMEZONE
TZID:America/Chicago
BEGIN:DAYLIGHT
TZOFFSETFROM:-0600
TZOFFSETTO:-0500
TZNAME:CDT
DTSTART:20240310T080000
END:DAYLIGHT
BEGIN:STANDARD
TZOFFSETFROM:-0500
TZOFFSETTO:-0600
TZNAME:CST
DTSTART:20241103T070000
END:STANDARD
BEGIN:DAYLIGHT
TZOFFSETFROM:-0600
TZOFFSETTO:-0500
TZNAME:CDT
DTSTART:20250309T080000
END:DAYLIGHT
BEGIN:STANDARD
TZOFFSETFROM:-0500
TZOFFSETTO:-0600
TZNAME:CST
DTSTART:20251102T070000
END:STANDARD
BEGIN:DAYLIGHT
TZOFFSETFROM:-0600
TZOFFSETTO:-0500
TZNAME:CDT
DTSTART:20260308T080000
END:DAYLIGHT
BEGIN:STANDARD
TZOFFSETFROM:-0500
TZOFFSETTO:-0600
TZNAME:CST
DTSTART:20261101T070000
END:STANDARD
END:VTIMEZONE
BEGIN:VEVENT
DTSTART;TZID=America/Chicago:20251224T163000
DTEND;TZID=America/Chicago:20251224T213000
DTSTAMP:20260419T120605
CREATED:20251218T171812Z
LAST-MODIFIED:20251218T173126Z
UID:10001257-1766593800-1766611800@txktoday.com
SUMMARY:St James Episcopal Church Christmas Eve Services
DESCRIPTION:St James Episcopal Church 417 Olive St.  Christmas Eve  services Wednesday December 24\, 4:30 pm Family Service\, 9:30 pm Candlelight Service both with carols. Christmas Day December 25 10:00 am service.
URL:https://txktoday.com/eventscal/st-james-episcopal-church-christmas-eve-day-services/
CATEGORIES:Church Event
ATTACH;FMTTYPE=image/png:https://txktoday.com/wp-content/uploads/2025/12/Screenshot-2025-12-18-at-11.11.06-AM.png
END:VEVENT
BEGIN:VEVENT
DTSTART;VALUE=DATE:20251225
DTEND;VALUE=DATE:20251226
DTSTAMP:20260419T120605
CREATED:20251208T155921Z
LAST-MODIFIED:20251208T155921Z
UID:10001252-1766620800-1766707199@txktoday.com
SUMMARY:Christmas Day
DESCRIPTION:Christmas Day!
URL:https://txktoday.com/eventscal/christmas-day/
CATEGORIES:City Event
END:VEVENT
BEGIN:VEVENT
DTSTART;TZID=America/Chicago:20251225T100000
DTEND;TZID=America/Chicago:20251225T110000
DTSTAMP:20260419T120605
CREATED:20251218T173035Z
LAST-MODIFIED:20251218T173241Z
UID:10001258-1766656800-1766660400@txktoday.com
SUMMARY:St James Episcopal Church Christmas Day Services
DESCRIPTION:St James Episcopal Church 417 Olive St. Christmas Day December 25 10:00 am service.
URL:https://txktoday.com/eventscal/st-james-episcopal-church-christmas-eve-day-services-2/
CATEGORIES:Church Event
ATTACH;FMTTYPE=image/png:https://txktoday.com/wp-content/uploads/2025/12/Screenshot-2025-12-18-at-11.29.27-AM.png
END:VEVENT
END:VCALENDAR