BEGIN:VCALENDAR
VERSION:2.0
PRODID:-//Texarkana Today - ECPv6.15.20//NONSGML v1.0//EN
CALSCALE:GREGORIAN
METHOD:PUBLISH
X-WR-CALNAME:Texarkana Today
X-ORIGINAL-URL:https://txktoday.com
X-WR-CALDESC:Events for Texarkana Today
REFRESH-INTERVAL;VALUE=DURATION:PT1H
X-Robots-Tag:noindex
X-PUBLISHED-TTL:PT1H
BEGIN:VTIMEZONE
TZID:America/Chicago
BEGIN:DAYLIGHT
TZOFFSETFROM:-0600
TZOFFSETTO:-0500
TZNAME:CDT
DTSTART:20250309T080000
END:DAYLIGHT
BEGIN:STANDARD
TZOFFSETFROM:-0500
TZOFFSETTO:-0600
TZNAME:CST
DTSTART:20251102T070000
END:STANDARD
BEGIN:DAYLIGHT
TZOFFSETFROM:-0600
TZOFFSETTO:-0500
TZNAME:CDT
DTSTART:20260308T080000
END:DAYLIGHT
BEGIN:STANDARD
TZOFFSETFROM:-0500
TZOFFSETTO:-0600
TZNAME:CST
DTSTART:20261101T070000
END:STANDARD
BEGIN:DAYLIGHT
TZOFFSETFROM:-0600
TZOFFSETTO:-0500
TZNAME:CDT
DTSTART:20270314T080000
END:DAYLIGHT
BEGIN:STANDARD
TZOFFSETFROM:-0500
TZOFFSETTO:-0600
TZNAME:CST
DTSTART:20271107T070000
END:STANDARD
END:VTIMEZONE
BEGIN:VEVENT
DTSTART;TZID=America/Chicago:20260301T200000
DTEND;TZID=America/Chicago:20260301T233000
DTSTAMP:20260421T213101
CREATED:20260122T192634Z
LAST-MODIFIED:20260122T192634Z
UID:10001276-1772395200-1772407800@txktoday.com
SUMMARY:Rock Band Power Take Off to Perform at Fat Jack's March 1
DESCRIPTION:Rock pop/punk band Power Take Off will perform at Fat Jack’s in Texarkana on March 1 as part of their 2026 U.S. tour spanning 12 states. \nThe multi-generational group\, formed by father-son duo Scott and Ayden Theis in 2019\, has charted four consecutive singles on the SMR Mainstream/Active Rock Top 50. Their latest single “Revolution” peaked at No. 23 in September 2025. \nThe band recently released their newest single “Dixie Cup” with an accompanying music video filmed in a bowling alley setting. \n“‘Dixie Cup’ is a celebration of young love—and the complicated\, funny\, tender place known as ‘the friend zone\,'” lead singer Scott Theis said. “It’s an honest message to the listener that says: I’m here for you in whatever way you need.” \nThe band includes 18-year-old drummer Ayden Theis\, who began playing drums at age two\, guitarist Ethan “Hank” Schluter\, Mike “Cowboy” Delp\, and bassist Jakob “JR” Ripp. \nPower Take Off recorded “Revolution” in Nashville with multi-platinum producer Malcolm Springer at Stoner Creek Studios. The band has since worked with producer Chuck Alkazian in Detroit on new material. \nThe Texarkana show is part of a tour that includes stops in Texas\, Mississippi\, Florida\, Alabama\, and several other states through April. The band is backed by Stryker Records with international distribution through Anrgirl/Beatchain/Fuga.
URL:https://txktoday.com/eventscal/rock-band-power-take-off-to-perform-at-fat-jacks-march-1/
LOCATION:Fat jacks\, 3324 N State Line Ave\, Texarkana\, AR\, 71854\, United States
CATEGORIES:Concert
ATTACH;FMTTYPE=image/jpeg:https://txktoday.com/wp-content/uploads/2026/01/unnamed.jpg
END:VEVENT
BEGIN:VEVENT
DTSTART;TZID=America/Chicago:20260307T190000
DTEND;TZID=America/Chicago:20260307T190000
DTSTAMP:20260421T213101
CREATED:20260121T220220Z
LAST-MODIFIED:20260121T220220Z
UID:10001269-1772910000-1772910000@txktoday.com
SUMMARY:Country Jukebox
DESCRIPTION:Get ready for a toe-tapping evening celebrating the rich legacy and vibrant spirit of country music! From the golden age of the 1950s to today’s hottest hits\, this unforgettable event takes you on a musical journey through decades of heartfelt storytelling\, soulful ballads\, and high-energy anthems. Whether you’re drawn to the twang of classic tunes or the polished sound of modern country\, there’s something here for everyone. So dust off your boots and join us for a night where the heart of country music comes alive.
URL:https://txktoday.com/eventscal/country-jukebox/
LOCATION:Perot Theatre\, Texarkana\, TX\, United States
GEO:33.4215035;-94.0443901
END:VEVENT
END:VCALENDAR